BEGIN:VCALENDAR
VERSION:2.0
PRODID:-//Freiwilligenzentrum - ECPv6.15.20//NONSGML v1.0//EN
CALSCALE:GREGORIAN
METHOD:PUBLISH
X-WR-CALNAME:Freiwilligenzentrum
X-ORIGINAL-URL:https://freiwilligenzentrum-giessen.de
X-WR-CALDESC:Veranstaltungen für Freiwilligenzentrum
REFRESH-INTERVAL;VALUE=DURATION:PT1H
X-Robots-Tag:noindex
X-PUBLISHED-TTL:PT1H
BEGIN:VTIMEZONE
TZID:Europe/Berlin
BEGIN:DAYLIGHT
TZOFFSETFROM:+0100
TZOFFSETTO:+0200
TZNAME:CEST
DTSTART:20240331T010000
END:DAYLIGHT
BEGIN:STANDARD
TZOFFSETFROM:+0200
TZOFFSETTO:+0100
TZNAME:CET
DTSTART:20241027T010000
END:STANDARD
BEGIN:DAYLIGHT
TZOFFSETFROM:+0100
TZOFFSETTO:+0200
TZNAME:CEST
DTSTART:20250330T010000
END:DAYLIGHT
BEGIN:STANDARD
TZOFFSETFROM:+0200
TZOFFSETTO:+0100
TZNAME:CET
DTSTART:20251026T010000
END:STANDARD
BEGIN:DAYLIGHT
TZOFFSETFROM:+0100
TZOFFSETTO:+0200
TZNAME:CEST
DTSTART:20260329T010000
END:DAYLIGHT
BEGIN:STANDARD
TZOFFSETFROM:+0200
TZOFFSETTO:+0100
TZNAME:CET
DTSTART:20261025T010000
END:STANDARD
END:VTIMEZONE
BEGIN:VEVENT
DTSTART;TZID=Europe/Berlin:20251105T120000
DTEND;TZID=Europe/Berlin:20251105T140000
DTSTAMP:20260423T145826
CREATED:20251017T065438Z
LAST-MODIFIED:20251017T065438Z
UID:18210-1762344000-1762351200@freiwilligenzentrum-giessen.de
SUMMARY:Mittagstisch im Freiwilligenzentrum
DESCRIPTION:
URL:https://freiwilligenzentrum-giessen.de/veranstaltung/mittagstisch-im-freiwilligenzentrum-2/
LOCATION:Freiwilligenzentrum Giessen\, Walltorstr.17\, Giessen\, Hessen\, 35390\, Deutschland
CATEGORIES:Event,Vor Ort
ORGANIZER;CN="Freiwilligenzentrum Gie%C3%9Fen":MAILTO:info@freiwilligenzentrum-giessen.de
END:VEVENT
BEGIN:VEVENT
DTSTART;TZID=Europe/Berlin:20251115T180000
DTEND;TZID=Europe/Berlin:20251116T000000
DTSTAMP:20260423T145826
CREATED:20251104T113453Z
LAST-MODIFIED:20251104T113453Z
UID:18944-1763229600-1763251200@freiwilligenzentrum-giessen.de
SUMMARY:Karaoke Abend im Café Nachtlicht
DESCRIPTION:
URL:https://freiwilligenzentrum-giessen.de/veranstaltung/karaoke-abend-im-cafe-nachtlicht/
LOCATION:Freiwilligenzentrum Giessen\, Walltorstr.17\, Giessen\, Hessen\, 35390\, Deutschland
CATEGORIES:Event
ORGANIZER;CN="Freiwilligenzentrum Gie%C3%9Fen":MAILTO:info@freiwilligenzentrum-giessen.de
END:VEVENT
BEGIN:VEVENT
DTSTART;TZID=Europe/Berlin:20251126T170000
DTEND;TZID=Europe/Berlin:20251126T190000
DTSTAMP:20260423T145826
CREATED:20251120T134023Z
LAST-MODIFIED:20251120T134023Z
UID:19028-1764176400-1764183600@freiwilligenzentrum-giessen.de
SUMMARY:Extern: Demokratie Stencil (Schablonen) Workshop des AdiNet
DESCRIPTION:Kreativer Workshop für Demokratie und gegen Diskriminierung: \nMach mit und erstelle Demokratie-Stencils für Grafitis und Co. \nMehr Infos und Anmeldung bei Teresa Gimbel unter 0641 9390 1732 oder per Mail: Teresa.Gimbel@lkgi.de
URL:https://freiwilligenzentrum-giessen.de/veranstaltung/extern-demokratie-stencil-schablonen-workshop-des-adinet/
LOCATION:Freiwilligenzentrum Giessen\, Walltorstr.17\, Giessen\, Hessen\, 35390\, Deutschland
CATEGORIES:Workshop
ORGANIZER;CN="Antidiskriminierungsnetzwerk (AdiNet)":MAILTO:Teresa.Gimbel@lkgi.de
END:VEVENT
BEGIN:VEVENT
DTSTART;TZID=Europe/Berlin:20251128T140000
DTEND;TZID=Europe/Berlin:20251128T160000
DTSTAMP:20260423T145826
CREATED:20251120T134708Z
LAST-MODIFIED:20251120T134708Z
UID:19031-1764338400-1764345600@freiwilligenzentrum-giessen.de
SUMMARY:Das Freiwilligenzentrum zu Gast beim Ehrenamtstag in Lich
DESCRIPTION:
URL:https://freiwilligenzentrum-giessen.de/veranstaltung/das-freiwilligenzentrum-zu-gast-beim-ehrenamtstag-in-lich/
LOCATION:Bürgerbüro Lich\, Kirchenplatz 12\, Lich\, Hessen\, 35423\, Germany
CATEGORIES:Info
END:VEVENT
BEGIN:VEVENT
DTSTART;TZID=Europe/Berlin:20251129T130000
DTEND;TZID=Europe/Berlin:20251129T170000
DTSTAMP:20260423T145826
CREATED:20251113T134437Z
LAST-MODIFIED:20251124T123922Z
UID:19007-1764421200-1764435600@freiwilligenzentrum-giessen.de
SUMMARY:Das Freiwilligenzentrum auf dem Demokratiefest
DESCRIPTION:Gemeinsam für Demokratie und Vielfalt! \nFür eine offene\, respektvolle und solidarische Gesellschaft! \nWir zeigen Haltung! \nFest der Demokratie \nam 29. November 2025 in Gießen\n  \nDas Freiwilligenzentrum ist dabei und unterstützt rund ums Engagement für Vielfalt. \nWir suchen Helfer*innen und Ordner*innen um eine friedliche\, geordnete und reibungslose Veranstaltung zu gewährleisten. \nAuch wenn ihr euch spontan entscheidet\, an diesem Tag aktiv zu werden – meldet euch bei unserer Check-In-Base \n  \n\n\nDu weißt schon jetzt\, dass du helfen möchtest? Dann melde dich bei: gabriel.brand@ekhn.de \n\n\n\nCheck-In-Base Demokratie \n 
URL:https://freiwilligenzentrum-giessen.de/veranstaltung/das-freiwilligenzentrum-auf-dem-demokratiefest/
CATEGORIES:Event
END:VEVENT
BEGIN:VEVENT
DTSTART;TZID=Europe/Berlin:20251129T180000
DTEND;TZID=Europe/Berlin:20251130T000000
DTSTAMP:20260423T145826
CREATED:20251128T121328Z
LAST-MODIFIED:20251128T121328Z
UID:19061-1764439200-1764460800@freiwilligenzentrum-giessen.de
SUMMARY:Das Café Nachtlicht ist geschlossen - Das DGB-Gebäude bleibt geöffnet
DESCRIPTION:Aufgrund der Unvorhersehbarkeit der Lage am Wochenende\, muss das Café Nachtlicht am 29.11. leider geschlossen bleiben. \nFür Menschen\, die einen Rückzugsort suchen\, ist das DGB-Gebäude in der Walltorstraße 17 geöffnet.
URL:https://freiwilligenzentrum-giessen.de/veranstaltung/das-cafe-nachtlicht-ist-geschlossen-das-dgb-gebaeude-bleibt-geoeffnet/
LOCATION:Freiwilligenzentrum Giessen\, Walltorstr.17\, Giessen\, Hessen\, 35390\, Deutschland
CATEGORIES:Info
ORGANIZER;CN="Freiwilligenzentrum Gie%C3%9Fen":MAILTO:info@freiwilligenzentrum-giessen.de
END:VEVENT
END:VCALENDAR