BEGIN:VCALENDAR
VERSION:2.0
PRODID:-//Freiwilligenzentrum - ECPv6.15.20//NONSGML v1.0//EN
CALSCALE:GREGORIAN
METHOD:PUBLISH
X-WR-CALNAME:Freiwilligenzentrum
X-ORIGINAL-URL:https://freiwilligenzentrum-giessen.de
X-WR-CALDESC:Veranstaltungen für Freiwilligenzentrum
REFRESH-INTERVAL;VALUE=DURATION:PT1H
X-Robots-Tag:noindex
X-PUBLISHED-TTL:PT1H
BEGIN:VTIMEZONE
TZID:Europe/Berlin
BEGIN:DAYLIGHT
TZOFFSETFROM:+0100
TZOFFSETTO:+0200
TZNAME:CEST
DTSTART:20240331T010000
END:DAYLIGHT
BEGIN:STANDARD
TZOFFSETFROM:+0200
TZOFFSETTO:+0100
TZNAME:CET
DTSTART:20241027T010000
END:STANDARD
BEGIN:DAYLIGHT
TZOFFSETFROM:+0100
TZOFFSETTO:+0200
TZNAME:CEST
DTSTART:20250330T010000
END:DAYLIGHT
BEGIN:STANDARD
TZOFFSETFROM:+0200
TZOFFSETTO:+0100
TZNAME:CET
DTSTART:20251026T010000
END:STANDARD
BEGIN:DAYLIGHT
TZOFFSETFROM:+0100
TZOFFSETTO:+0200
TZNAME:CEST
DTSTART:20260329T010000
END:DAYLIGHT
BEGIN:STANDARD
TZOFFSETFROM:+0200
TZOFFSETTO:+0100
TZNAME:CET
DTSTART:20261025T010000
END:STANDARD
END:VTIMEZONE
BEGIN:VEVENT
DTSTART;TZID=Europe/Berlin:20251011T100000
DTEND;TZID=Europe/Berlin:20251011T160000
DTSTAMP:20260425T145349
CREATED:20250922T112249Z
LAST-MODIFIED:20250922T112406Z
UID:17802-1760176800-1760198400@freiwilligenzentrum-giessen.de
SUMMARY:Das Freiwilligenzentrum zu Gast auf der Seniorenmesse
DESCRIPTION:Auch auf der 6. Gießener Seniorenmesse sind wir wieder mit dabei und stellen unsere freiwilligen Unterstützungsangebote vor. \nKommen Sie bei unserem Stand vorbei und informieren Sie sich\, wie Sie sich in Ihrer Stadt freiwillig engagieren können oder wie Sie freiwillige Unterstützung bekommen können.
URL:https://freiwilligenzentrum-giessen.de/veranstaltung/das-freiwilligenzentrum-zu-gast-auf-der-seniorenmesse/
LOCATION:Kongresshalle\, Berliner Platz 2\, Gießen\, Hessen\, 35390\, Germany
CATEGORIES:Event,Info
ORGANIZER;CN="Freiwilligenzentrum Gie%C3%9Fen":MAILTO:info@freiwilligenzentrum-giessen.de
END:VEVENT
BEGIN:VEVENT
DTSTART;VALUE=DATE:20251015
DTEND;VALUE=DATE:20251016
DTSTAMP:20260425T145349
CREATED:20251007T134743Z
LAST-MODIFIED:20251007T134743Z
UID:18139-1760486400-1760572799@freiwilligenzentrum-giessen.de
SUMMARY:Extern: Ausländerbeirat - Infoveranstaltung zur Wahl
DESCRIPTION:Langsam nähern sich die Kommunalwahlen 2026. Wir vom Kreisausländerbeirat suchen Menschen\, die bereit sind\, politische Arbeit zu übernehmen und ihre Kandidatur für den Ausländerbeirat des Landkreises Gießen in Erwägung ziehen und laden daher herzlich ein\, an der Infoveranstaltung am 15. Oktober teilzunehmen. \nDein Profil: \n– Du bist interessiert an gesellschaftlicher Arbeit und bereit\, Zeit für Fragen der Integration und des Lebens von Ausländer/-innen in Deutschland zu investieren \n– Du hast Lust\, die Vertretung der Interessen aller Ausländer/-innen im Landkreis zu übernehmen \n– Du bist auch bereit\, die Interessen von Ausländern in der Öffentlichkeit\, in der Presse und im Kreistag zu vertreten \n– Du verfügst über solide Deutschkenntnisse in Wort und Schrift \n– Du hast eine nicht-deutsche Staatsbürgerschaft/ bist Doppelstaatler/deutsch-eingebürgert/ staatenlos. \nOrt\, Uhrzeit und weitere Informationen per Mail: kab.turiyanskaya@gmail.com
URL:https://freiwilligenzentrum-giessen.de/veranstaltung/extern-auslaenderbeirat-infoveranstaltung-zur-wahl/
CATEGORIES:Info
END:VEVENT
BEGIN:VEVENT
DTSTART;TZID=Europe/Berlin:20251022T180000
DTEND;TZID=Europe/Berlin:20251022T200000
DTSTAMP:20260425T145349
CREATED:20251002T074615Z
LAST-MODIFIED:20251002T074615Z
UID:18097-1761156000-1761163200@freiwilligenzentrum-giessen.de
SUMMARY:Extern: Infoveranstaltung Testament und Nachlass von NETZ Bangladesch e.V.
DESCRIPTION:Meine Werte\, meine Wünsche – Gute Gründe\, ein Testament zu machen. \nBarbara Steiger\, Notarin und Fachanwältin für Erbrecht\, informiert bei unserer kommenden Veranstaltung über die Gestaltungsmöglichkeiten eines persönlichen Testaments und über Fehler\, die es dabei zu vermeiden gilt. \nEin Resümee ziehen kann jeder Mensch nur in seiner sehr persönlichen Art. Was am Ende bleibt ist so verschieden\, wie die einzelnen Lebensverläufe. Und manches erhält seinen Sinn erst in der Rückschau. Ein Testament ist ein Zeichen von Fürsorge und Verantwortung. Vor allem ist es beruhigend zu wissen\, dass der Nachlass geregelt ist\, die Liebsten versorgt sind und die eigenen Werte wie auch das Vermögen über den Tod hinaus für andere Menschen wirken. \n\nWir laden Sie herzlich zur Veranstaltung mit Barbara Steiger ein: \nWann: Mittwoch\, 22. Oktober 2025 / 18 Uhr \nWo: Freiwilligenzentrum\, Walltorstr. 17\, 35390 Gießen \nDie Veranstaltung ist gebührenfrei.
URL:https://freiwilligenzentrum-giessen.de/veranstaltung/extern-infoveranstaltung-testament-und-nachlass-von-netz-bangladesch-e-v/
LOCATION:Freiwilligenzentrum Giessen\, Walltorstr.17\, Giessen\, Hessen\, 35390\, Deutschland
CATEGORIES:Info
ORGANIZER;CN="NETZ Bangladesch e.V.":MAILTO:netz@bangladesch.org
END:VEVENT
BEGIN:VEVENT
DTSTART;TZID=Europe/Berlin:20251027T170000
DTEND;TZID=Europe/Berlin:20251027T200000
DTSTAMP:20260425T145349
CREATED:20250922T111658Z
LAST-MODIFIED:20250922T111658Z
UID:17800-1761584400-1761595200@freiwilligenzentrum-giessen.de
SUMMARY:Schulung neuer Pat*innen im Projekt "Dabei bleiben"
DESCRIPTION:Unsere neue Schulung für Pat*innen für mobil eingeschränkte Personen in und um Gießen startet wieder. \nWerden Sie Teil des Projekts „Dabei bleiben“! \nDie Schulung findet an 3 Nachmittagen statt. \nInformationen und Anmeldung bei Helga Kroll unter dabeibleiben@freiwilligenzentrum-giessen.de
URL:https://freiwilligenzentrum-giessen.de/veranstaltung/schulung-neuer-patinnen-im-projekt-dabei-bleiben/
CATEGORIES:Weiterbildung
ORGANIZER;CN="Freiwilligenzentrum Gie%C3%9Fen":MAILTO:info@freiwilligenzentrum-giessen.de
END:VEVENT
BEGIN:VEVENT
DTSTART;TZID=Europe/Berlin:20251029T180000
DTEND;TZID=Europe/Berlin:20251029T193000
DTSTAMP:20260425T145349
CREATED:20251017T105331Z
LAST-MODIFIED:20251017T105331Z
UID:18215-1761760800-1761766200@freiwilligenzentrum-giessen.de
SUMMARY:Ehrenamt – stark fürs Studium\, wertvoll für den Beruf: Das Freiwilligenzentrum zu Gast an der JLU Gießen
DESCRIPTION:Informationsveranstaltung des Freiwilligenzentrum an der JLU Gießen: \nEhrenamt – stark fürs Studium\, wertvoll für den Beruf\n\n\n\n\n\n\n\n\n\n\n\n\n\n\nWeitere Informationen und den Link zur Anmeldung finden Sie hier:\nhttps://www.uni-giessen.de/de/fbz/zentren/zfbk/career/veranterm/termineworkshops/ehrenamtwise2526\n\n\n\nAnsprechpartnerin ist\n\nDr. Anika Denninger \n\n\n\n\n\n+ 49 (0)641 / 99-18011
URL:https://freiwilligenzentrum-giessen.de/veranstaltung/ehrenamt-stark-fuers-studium-wertvoll-fuer-den-beruf-das-freiwilligenzentrum-zu-gast-an-der-jlu-giessen/
CATEGORIES:Info
ORGANIZER;CN="Freiwilligenzentrum Gie%C3%9Fen":MAILTO:info@freiwilligenzentrum-giessen.de
END:VEVENT
END:VCALENDAR