BEGIN:VCALENDAR
VERSION:2.0
PRODID:-//Freiwilligenzentrum - ECPv6.15.20//NONSGML v1.0//EN
CALSCALE:GREGORIAN
METHOD:PUBLISH
X-WR-CALNAME:Freiwilligenzentrum
X-ORIGINAL-URL:https://freiwilligenzentrum-giessen.de
X-WR-CALDESC:Veranstaltungen für Freiwilligenzentrum
REFRESH-INTERVAL;VALUE=DURATION:PT1H
X-Robots-Tag:noindex
X-PUBLISHED-TTL:PT1H
BEGIN:VTIMEZONE
TZID:Europe/Berlin
BEGIN:DAYLIGHT
TZOFFSETFROM:+0100
TZOFFSETTO:+0200
TZNAME:CEST
DTSTART:20230326T010000
END:DAYLIGHT
BEGIN:STANDARD
TZOFFSETFROM:+0200
TZOFFSETTO:+0100
TZNAME:CET
DTSTART:20231029T010000
END:STANDARD
BEGIN:DAYLIGHT
TZOFFSETFROM:+0100
TZOFFSETTO:+0200
TZNAME:CEST
DTSTART:20240331T010000
END:DAYLIGHT
BEGIN:STANDARD
TZOFFSETFROM:+0200
TZOFFSETTO:+0100
TZNAME:CET
DTSTART:20241027T010000
END:STANDARD
BEGIN:DAYLIGHT
TZOFFSETFROM:+0100
TZOFFSETTO:+0200
TZNAME:CEST
DTSTART:20250330T010000
END:DAYLIGHT
BEGIN:STANDARD
TZOFFSETFROM:+0200
TZOFFSETTO:+0100
TZNAME:CET
DTSTART:20251026T010000
END:STANDARD
BEGIN:DAYLIGHT
TZOFFSETFROM:+0100
TZOFFSETTO:+0200
TZNAME:CEST
DTSTART:20260329T010000
END:DAYLIGHT
BEGIN:STANDARD
TZOFFSETFROM:+0200
TZOFFSETTO:+0100
TZNAME:CET
DTSTART:20261025T010000
END:STANDARD
END:VTIMEZONE
BEGIN:VEVENT
DTSTART;TZID=Europe/Berlin:20241211T180000
DTEND;TZID=Europe/Berlin:20241211T193000
DTSTAMP:20260419T222522
CREATED:20241210T135709Z
LAST-MODIFIED:20241210T135709Z
UID:12867-1733940000-1733945400@freiwilligenzentrum-giessen.de
SUMMARY:Netzwerkevent: Freiwilliges Engagement in Koop. mit der THM
DESCRIPTION:Möchtest du dein Netzwerk erweitern und ehrenamtliche Tätigkeiten kennenlernen? Möchtest du deine Chancen auf ein Stipendium erhöhen und deinen Wohnort mitgestalten? \nDas Freiwilligenzentrum in Gießen informiert in Kooperation mit der Technischen Hochschule Mittelhessen Gießen über ehrenamtliche Angebote und Projekte (für Studierende). \nFolgende Themen werden angesprochen: Was ist freiwilliges Engagement und welche Vorteile ergeben sich für dich? Welche Einsatzbereiche gibt es konkret für internationale und lokale Studierende? \nAnmeldung über: E-Mail mit dem Betreff „Engagement“ inklusive Namen und Fachbereich an buddy@thm.de schicken
URL:https://freiwilligenzentrum-giessen.de/veranstaltung/netzwerkevent-freiwilliges-engagement-in-koop-mit-der-thm/
CATEGORIES:Info,Vor Ort
END:VEVENT
BEGIN:VEVENT
DTSTART;TZID=Europe/Berlin:20241212T160000
DTEND;TZID=Europe/Berlin:20241212T200000
DTSTAMP:20260419T222522
CREATED:20241028T131515Z
LAST-MODIFIED:20241028T131515Z
UID:12097-1734019200-1734033600@freiwilligenzentrum-giessen.de
SUMMARY:„… und dann ging das Nacktbild überall rum.“ - Online-Fortbildung zu sexualisierter Gewalt in digitalen Kontexten
DESCRIPTION:Digitale Räume sind ein großer Teil der Lebensrealität von Kindern und Jugendlichen. Einerseits werden sie als Räume zur Entfaltung der Persönlichkeit durch die Kinder und Jugendlichen genutzt. Andererseits nutzen Täter*innen den digitalen Raum als Tatorte für sexualisierte Gewalt. Das reicht von Cybergrooming als strategische Manipulation im Netz bis zu Verbreitung von Missbrauchsabbildungen\, sogenannter Kinderpornografie. \nThemen:\n• Formen sexualisierter Gewalt im digitalen Raum\n• Gesetzliche Grundlagen\n• Täterstrategien im digitalen Raum\n• Intervention\n• Prävention und Präventionsmethoden \nIn der Fortbildung werden verschiedene Formen sexualisierter Gewalt mittels digitaler Medien vorgestellt\, ebenso die gesetzlichen Grundlagen dazu. Ein weiterer Fokus liegt auf Täterstrategien im digitalen Raum und Möglichkeiten der Intervention und Prävention zum Schutz für Mädchen und Jungen. \nDie Online-Veranstaltung findet in Kooperation mit Wildwasser Gießen e.V. und dem Freiwilligenzentrum für Stadt- und Landkreis Gießen e.V. statt. \nFlyer_Cybergrooming_12.12.24_
URL:https://freiwilligenzentrum-giessen.de/veranstaltung/und-dann-ging-das-nacktbild-ueberall-rum-online-fortbildung-zu-sexualisierter-gewalt-in-digitalen-kontexten/
LOCATION:Online-Seminar\, Deutschland
CATEGORIES:Online-Seminare,Weiterbildung
END:VEVENT
BEGIN:VEVENT
DTSTART;TZID=Europe/Berlin:20241216T160000
DTEND;TZID=Europe/Berlin:20241216T180000
DTSTAMP:20260419T222522
CREATED:20241205T120702Z
LAST-MODIFIED:20241205T120702Z
UID:12860-1734364800-1734372000@freiwilligenzentrum-giessen.de
SUMMARY:letztes Sprachcafé vor der Winterpause
DESCRIPTION:Das letzte Sprachcafé vor der Winterpause! \nAm 13.01.2025 geht es weiter
URL:https://freiwilligenzentrum-giessen.de/veranstaltung/letztes-sprachcafe-vor-der-winterpause/
LOCATION:Freiwilligenzentrum Giessen\, Walltorstr.17\, Giessen\, Hessen\, 35390\, Deutschland
CATEGORIES:Event
ORGANIZER;CN="Freiwilligenzentrum Gie%C3%9Fen":MAILTO:info@freiwilligenzentrum-giessen.de
END:VEVENT
BEGIN:VEVENT
DTSTART;TZID=Europe/Berlin:20241219T180000
DTEND;TZID=Europe/Berlin:20241219T200000
DTSTAMP:20260419T222522
CREATED:20241125T133658Z
LAST-MODIFIED:20241125T133658Z
UID:12832-1734631200-1734638400@freiwilligenzentrum-giessen.de
SUMMARY:„Gute Nachbarschaft mit neu angekommenen Geflüchteten\, kann das gelingen?“ - Lasst uns reden in Stadtallendorf
DESCRIPTION:Lasst uns reden im Landkreis Marburg-Biedenkopf: „Gute Nachbarschaft mit neu angekommenen Geflüchteten\, kann das gelingen?“ \nDonnerstag\, 19.Dezember\, 18:00 Stadtallendorf im Südstadtkiosk
URL:https://freiwilligenzentrum-giessen.de/veranstaltung/gute-nachbarschaft-mit-neu-angekommenen-gefluechteten-kann-das-gelingen-lasst-uns-reden-in-stadtallendorf/
CATEGORIES:Workshop
END:VEVENT
BEGIN:VEVENT
DTSTART;VALUE=DATE:20241223
DTEND;VALUE=DATE:20250104
DTSTAMP:20260419T222522
CREATED:20241125T132740Z
LAST-MODIFIED:20241125T133215Z
UID:12827-1734912000-1735948799@freiwilligenzentrum-giessen.de
SUMMARY:Ferien - Geschäftsstelle Freiwilligenzentrum
DESCRIPTION:Die Geschäftsstelle des Freiwilligenzentrums ist zwischen dem 23.12.2024 und dem 03.01.2025 in den Winterferien! Ab dem 06.01.2025 sind wir wieder für Euch da
URL:https://freiwilligenzentrum-giessen.de/veranstaltung/freiwilligenzentrum-ferien-geschaeftsstelle/
CATEGORIES:Info
END:VEVENT
END:VCALENDAR