BEGIN:VCALENDAR
VERSION:2.0
PRODID:-//Freiwilligenzentrum - ECPv6.15.20//NONSGML v1.0//EN
CALSCALE:GREGORIAN
METHOD:PUBLISH
X-WR-CALNAME:Freiwilligenzentrum
X-ORIGINAL-URL:https://freiwilligenzentrum-giessen.de
X-WR-CALDESC:Veranstaltungen für Freiwilligenzentrum
REFRESH-INTERVAL;VALUE=DURATION:PT1H
X-Robots-Tag:noindex
X-PUBLISHED-TTL:PT1H
BEGIN:VTIMEZONE
TZID:Europe/Berlin
BEGIN:DAYLIGHT
TZOFFSETFROM:+0100
TZOFFSETTO:+0200
TZNAME:CEST
DTSTART:20220327T010000
END:DAYLIGHT
BEGIN:STANDARD
TZOFFSETFROM:+0200
TZOFFSETTO:+0100
TZNAME:CET
DTSTART:20221030T010000
END:STANDARD
BEGIN:DAYLIGHT
TZOFFSETFROM:+0100
TZOFFSETTO:+0200
TZNAME:CEST
DTSTART:20230326T010000
END:DAYLIGHT
BEGIN:STANDARD
TZOFFSETFROM:+0200
TZOFFSETTO:+0100
TZNAME:CET
DTSTART:20231029T010000
END:STANDARD
BEGIN:DAYLIGHT
TZOFFSETFROM:+0100
TZOFFSETTO:+0200
TZNAME:CEST
DTSTART:20240331T010000
END:DAYLIGHT
BEGIN:STANDARD
TZOFFSETFROM:+0200
TZOFFSETTO:+0100
TZNAME:CET
DTSTART:20241027T010000
END:STANDARD
END:VTIMEZONE
BEGIN:VEVENT
DTSTART;VALUE=DATE:20230908
DTEND;VALUE=DATE:20230918
DTSTAMP:20260425T174534
CREATED:20230728T082525Z
LAST-MODIFIED:20230904T094646Z
UID:4882-1694131200-1694995199@freiwilligenzentrum-giessen.de
SUMMARY:Woche des Bürgerschaftlichen Engagements
DESCRIPTION:Vom 08. – 17. September findet die Woche des Bürgerschaftlichen Engagements statt und wir sind mit dabei! \nSie und Ihr auch? \nAnmeldungen zu den Angeboten unter info@freiwilligenzentrum-giessen.de \n\n 
URL:https://freiwilligenzentrum-giessen.de/veranstaltung/woche-des-buergerschaftlichen-engagements/
CATEGORIES:Event
ORGANIZER;CN="Freiwilligenzentrum Gie%C3%9Fen":MAILTO:info@freiwilligenzentrum-giessen.de
END:VEVENT
BEGIN:VEVENT
DTSTART;TZID=Europe/Berlin:20230908T180000
DTEND;TZID=Europe/Berlin:20230908T200000
DTSTAMP:20260425T174534
CREATED:20230904T090220Z
LAST-MODIFIED:20230904T090221Z
UID:4913-1694196000-1694203200@freiwilligenzentrum-giessen.de
SUMMARY:"Einführung in progressive Muskelentspannung"
DESCRIPTION:Workshop zur Selbstfürsorge für Engagierte. \nAm 08.09. ab 18:00 Uhr in der Walltorstraße 17\, im Dachsaal. \nEingang über Asterweg Haupteingang\, Aufzug in den 7. Stock\,
URL:https://freiwilligenzentrum-giessen.de/veranstaltung/einfuehrung-in-progressive-muskelentspannung/
LOCATION:DGB Dachsaal\, Walltorstraße 17\, Gießen\, Hessen\, 35390\, Deutschland
CATEGORIES:Vor Ort,Workshop
ORGANIZER;CN="Freiwilligenzentrum Gie%C3%9Fen":MAILTO:info@freiwilligenzentrum-giessen.de
END:VEVENT
BEGIN:VEVENT
DTSTART;TZID=Europe/Berlin:20230910T150000
DTEND;TZID=Europe/Berlin:20230910T170000
DTSTAMP:20260425T174534
CREATED:20230801T233645Z
LAST-MODIFIED:20230901T092254Z
UID:4885-1694358000-1694365200@freiwilligenzentrum-giessen.de
SUMMARY:"Lasst uns reden" - Auftakt der Veranstaltungsserie
DESCRIPTION:Format:\nMit der Veranstaltungsserie „Lasst uns reden“ laden wir euch zu einem mutigen und respektvollen Dialog ein. Wir nehmen uns Zeit\, um miteinander anstatt übereinander zu sprechen. Weil wir denken\, dass es sich lohnt\, die Motive und Gefühle einer anderen Haltung zu einem Thema kennenzulernen. So bieten wir einen sicheren Raum und Rahmen\, in dem unterschiedliche Meinungen und Positionen ausgesprochen und gehört werden können.\nDas Format hat am 10. September 2023 seinen Auftakt\, andere Gesprächsthemen sind geplant. \nThema:\nWir starten mit „Gendersternchen\, politisch korrekte Sprache….wie siehst du das?“ Dieses Thema beschäftigt viele von uns und wird gesellschaftlich „heiß“ diskutiert. Ihr seid herzlich eingeladen\, wenn ihr das Interesse und die Bereitschaft mitbringt\, euch tiefer und in Ruhe mit der eigenen Position und derjenigen einer anderen Person zu beschäftigen. \nRahmen:\nDie Veranstaltung moderiert und im Sinne des Art of Hostings begleitet\, der „Kunst\, Räume für gute Gespräche zu schaffen“ und knüpft an die Grundideen von „Deutschland spricht“ (DIE ZEIT) an. \nBei der Anmeldung stellen wir euch vorab schon einige Fragen zu eurer Meinung zum Thema. Die Antworten bilden die Grundlage für die Einteilung von Paaren\, die sich an dem Tag der Veranstaltung in Ruhe miteinander austauschen können. Idee ist\, dass Menschen mit unterschiedlichen Meinungen in Kontakt miteinander kommen. \nWir bitten um zeitnahe Anmeldung bis zum 5. September 2023 bzw. bis die maximale Teilnehmendenzahl erreicht ist. \n  \n Hier geht’s zur Anmeldung. \n  \nWer steht dahinter? \nDie Veranstaltung wird gefördert mit Mitteln der Initiative EMPATHICO und der Stiftung Anstoß für soziale Projekte im Landkreis Gießen. Kooperationspartner sind das Gießener Freiwilligenzentrum\, das Oberhessische Museum\, Potluck – Weiterbildung für kulturelle Vielfalt sowie das Büro für Integration der Stadt Gießen.
URL:https://freiwilligenzentrum-giessen.de/veranstaltung/lasst-uns-reden-auftakt-der-veranstaltungsserie/
LOCATION:Oberhessisches Museum\, Brandplatz 2\, Gießen\, Hessen\, 35390\, Deutschland
CATEGORIES:Event,Vor Ort
ORGANIZER;CN="Freiwilligenzentrum Gie%C3%9Fen":MAILTO:info@freiwilligenzentrum-giessen.de
END:VEVENT
BEGIN:VEVENT
DTSTART;VALUE=DATE:20230915
DTEND;VALUE=DATE:20230916
DTSTAMP:20260425T174534
CREATED:20230904T090936Z
LAST-MODIFIED:20230904T090938Z
UID:4915-1694736000-1694822399@freiwilligenzentrum-giessen.de
SUMMARY:Stadtpark Wieseckaue
DESCRIPTION:Gemeinsamer Sozialtag im Stadtpark: \nEngagement mit Bewohner*innen der Hessischen Erstaufnahmeeinrichtung für Asylbewerber*innen und Anwohner*innen aus Gießen. \nDie Uhrzeit wird noch bekannt gegeben. \n 
URL:https://freiwilligenzentrum-giessen.de/veranstaltung/stadtpark-wieseckaue/
LOCATION:Stadtpark Wieseckaue
CATEGORIES:Event,Vor Ort
ORGANIZER;CN="Freiwilligenzentrum Gie%C3%9Fen":MAILTO:info@freiwilligenzentrum-giessen.de
END:VEVENT
BEGIN:VEVENT
DTSTART;TZID=Europe/Berlin:20230916T110000
DTEND;TZID=Europe/Berlin:20230916T170000
DTSTAMP:20260425T174534
CREATED:20230904T091926Z
LAST-MODIFIED:20230904T091927Z
UID:4919-1694862000-1694883600@freiwilligenzentrum-giessen.de
SUMMARY:Demokratiefest in Reiskirchen
DESCRIPTION:Gemeinsam mit der Koordinierungs- und Fachstelle „Dabei sein in den Gießener Lahntälern – Partnerschaft für Demokratie“ und verschiedenen Akteuren aus Reiskirchen und den Ortsteilen veranstalten wir ein Demokratiefest in Reiskirchen\, bei dem es um Info und Austausch zu lokalem Engagement und Beteiligungsmöglichkeiten geht und natürlich auch ein tolles Kinder- und Jugendprogramm angeboten wird. \nAlso kommt vorbei!
URL:https://freiwilligenzentrum-giessen.de/veranstaltung/demokratiefest-in-reiskirchen/
LOCATION:TSG Gelände Reiskirchen\, Schillerstraße 6\, Reiskirchen\, Hessen\, 35447\, Deutschland
CATEGORIES:Event
ORGANIZER;CN="Freiwilligenzentrum Gie%C3%9Fen":MAILTO:info@freiwilligenzentrum-giessen.de
END:VEVENT
BEGIN:VEVENT
DTSTART;TZID=Europe/Berlin:20230917T100000
DTEND;TZID=Europe/Berlin:20230917T120000
DTSTAMP:20260425T174534
CREATED:20230904T094141Z
LAST-MODIFIED:20230904T094141Z
UID:4923-1694944800-1694952000@freiwilligenzentrum-giessen.de
SUMMARY:"Regionale Fördermittel - Optionen Kennenlernen"
DESCRIPTION:Netzwerk-Event für Engagierte auf der Suche nach Fördermitteln. \nAnmeldung unter info@freiwilligenzentrum-giessen.de
URL:https://freiwilligenzentrum-giessen.de/veranstaltung/regionale-foerdermittel-optionen-kennenlernen/
LOCATION:DGB Dachsaal\, Walltorstraße 17\, Gießen\, Hessen\, 35390\, Deutschland
CATEGORIES:Austausch und Vernetzung,Event,Info,Vor Ort
ORGANIZER;CN="Freiwilligenzentrum Gie%C3%9Fen":MAILTO:info@freiwilligenzentrum-giessen.de
END:VEVENT
END:VCALENDAR