BEGIN:VCALENDAR
VERSION:2.0
PRODID:-//Freiwilligenzentrum - ECPv6.15.20//NONSGML v1.0//EN
CALSCALE:GREGORIAN
METHOD:PUBLISH
X-WR-CALNAME:Freiwilligenzentrum
X-ORIGINAL-URL:https://freiwilligenzentrum-giessen.de
X-WR-CALDESC:Veranstaltungen für Freiwilligenzentrum
REFRESH-INTERVAL;VALUE=DURATION:PT1H
X-Robots-Tag:noindex
X-PUBLISHED-TTL:PT1H
BEGIN:VTIMEZONE
TZID:Europe/Berlin
BEGIN:DAYLIGHT
TZOFFSETFROM:+0100
TZOFFSETTO:+0200
TZNAME:CEST
DTSTART:20220327T010000
END:DAYLIGHT
BEGIN:STANDARD
TZOFFSETFROM:+0200
TZOFFSETTO:+0100
TZNAME:CET
DTSTART:20221030T010000
END:STANDARD
BEGIN:DAYLIGHT
TZOFFSETFROM:+0100
TZOFFSETTO:+0200
TZNAME:CEST
DTSTART:20230326T010000
END:DAYLIGHT
BEGIN:STANDARD
TZOFFSETFROM:+0200
TZOFFSETTO:+0100
TZNAME:CET
DTSTART:20231029T010000
END:STANDARD
BEGIN:DAYLIGHT
TZOFFSETFROM:+0100
TZOFFSETTO:+0200
TZNAME:CEST
DTSTART:20240331T010000
END:DAYLIGHT
BEGIN:STANDARD
TZOFFSETFROM:+0200
TZOFFSETTO:+0100
TZNAME:CET
DTSTART:20241027T010000
END:STANDARD
END:VTIMEZONE
BEGIN:VEVENT
DTSTART;TZID=Europe/Berlin:20230403T170000
DTEND;TZID=Europe/Berlin:20230403T200000
DTSTAMP:20260422T194814
CREATED:20230331T085748Z
LAST-MODIFIED:20230331T085802Z
UID:4444-1680541200-1680552000@freiwilligenzentrum-giessen.de
SUMMARY:Projekt "dabei bleiben" - Schulung neuer Paten für mobil eingeschränkte Personen
DESCRIPTION:Für unser Projekt „dabei bleiben“ startet die nächste Schulung der Paten für mobil eingeschränkte Personen schon am 03.04.! \nDie Schulung wird am 05. und 06.04. fortgesetzt. \nHier die Termine: \nMo\, 03.04.2023 von 17:00 Uhr bis 20:00 Uhr (Module 1 und 2) – Vorstellung Projekt und Organisationen\, Datenschutz\, Versicherungsschutz  \nMi\, 05.04.2023 von 15:00 Uhr bis 18:00 Uhr (Modul 3) – Versorgungsstrukturen für mobil Eingeschränkte in Gießen (Beko) \nDo\, 06.04.2023 von 17:00 Uhr bis 20:00 Uhr (Modul 4) – Mobilisierung von hilfebedürftigen Menschen (Caritas) \nInformationen und Anmeldung bei Helga Kroll: dabeibleiben@freiwilligenzentrum-giessen.de \n 
URL:https://freiwilligenzentrum-giessen.de/veranstaltung/dabeibleiben-schulung/
LOCATION:DGB Dachsaal\, Walltorstraße 17\, Gießen\, Hessen\, 35390\, Deutschland
CATEGORIES:Vor Ort,Weiterbildung,Workshop
ORGANIZER;CN="Freiwilligenzentrum Gie%C3%9Fen":MAILTO:info@freiwilligenzentrum-giessen.de
END:VEVENT
END:VCALENDAR