BEGIN:VCALENDAR
VERSION:2.0
PRODID:-//Freiwilligenzentrum - ECPv6.15.20//NONSGML v1.0//EN
CALSCALE:GREGORIAN
METHOD:PUBLISH
X-WR-CALNAME:Freiwilligenzentrum
X-ORIGINAL-URL:https://freiwilligenzentrum-giessen.de
X-WR-CALDESC:Veranstaltungen für Freiwilligenzentrum
REFRESH-INTERVAL;VALUE=DURATION:PT1H
X-Robots-Tag:noindex
X-PUBLISHED-TTL:PT1H
BEGIN:VTIMEZONE
TZID:Europe/Berlin
BEGIN:DAYLIGHT
TZOFFSETFROM:+0100
TZOFFSETTO:+0200
TZNAME:CEST
DTSTART:20210328T010000
END:DAYLIGHT
BEGIN:STANDARD
TZOFFSETFROM:+0200
TZOFFSETTO:+0100
TZNAME:CET
DTSTART:20211031T010000
END:STANDARD
BEGIN:DAYLIGHT
TZOFFSETFROM:+0100
TZOFFSETTO:+0200
TZNAME:CEST
DTSTART:20220327T010000
END:DAYLIGHT
BEGIN:STANDARD
TZOFFSETFROM:+0200
TZOFFSETTO:+0100
TZNAME:CET
DTSTART:20221030T010000
END:STANDARD
BEGIN:DAYLIGHT
TZOFFSETFROM:+0100
TZOFFSETTO:+0200
TZNAME:CEST
DTSTART:20230326T010000
END:DAYLIGHT
BEGIN:STANDARD
TZOFFSETFROM:+0200
TZOFFSETTO:+0100
TZNAME:CET
DTSTART:20231029T010000
END:STANDARD
END:VTIMEZONE
BEGIN:VEVENT
DTSTART;TZID=Europe/Berlin:20221010T190000
DTEND;TZID=Europe/Berlin:20221010T203000
DTSTAMP:20260422T121618
CREATED:20220830T081339Z
LAST-MODIFIED:20220830T095450Z
UID:3853-1665428400-1665433800@freiwilligenzentrum-giessen.de
SUMMARY:Extern: So sag ich’s der Presse - Handreichung für eine erfolgreiche Kommunikation und Pressearbeit
DESCRIPTION:Wie bringe ich mein Anliegen in die Öffentlichkeit? Wir beschäftigen uns mit Grundzügen der klassischen Pressemitteilung\, Schreiben für die Homepage sowie in einem Exkurs pointiertes Texten für die sozialen Medien. \nTermine:\nMontag\, 10. Okt. 2022\, 19.00-20.30 Uhr\nMontag\, 17. Okt. 2022\, 19.00-20.30 Uhr \nAnmeldung/Abmeldung bis 30. Sept. 2022 unter www.vhs-kreis-giessen.de oder per E-Mail (kvhs.giessen@lkgi.de).
URL:https://freiwilligenzentrum-giessen.de/veranstaltung/so-sag-ichs-der-presse-handreichung-fuer-eine-erfolgreiche-kommunikation-und-pressearbeit/
LOCATION:VHS Landkreis Gießen\, Kreuzweg 33\, Lich\, Hessen\, 35423\, Deutschland
CATEGORIES:Vor Ort,Weiterbildung
ORGANIZER;CN="VHS Landkreis Gie%C3%9Fen":MAILTO:kvhs.giessen@lkgi.de
END:VEVENT
END:VCALENDAR