BEGIN:VCALENDAR
VERSION:2.0
PRODID:-//Freiwilligenzentrum - ECPv6.15.20//NONSGML v1.0//EN
CALSCALE:GREGORIAN
METHOD:PUBLISH
X-WR-CALNAME:Freiwilligenzentrum
X-ORIGINAL-URL:https://freiwilligenzentrum-giessen.de
X-WR-CALDESC:Veranstaltungen für Freiwilligenzentrum
REFRESH-INTERVAL;VALUE=DURATION:PT1H
X-Robots-Tag:noindex
X-PUBLISHED-TTL:PT1H
BEGIN:VTIMEZONE
TZID:Europe/Berlin
BEGIN:DAYLIGHT
TZOFFSETFROM:+0100
TZOFFSETTO:+0200
TZNAME:CEST
DTSTART:20210328T010000
END:DAYLIGHT
BEGIN:STANDARD
TZOFFSETFROM:+0200
TZOFFSETTO:+0100
TZNAME:CET
DTSTART:20211031T010000
END:STANDARD
BEGIN:DAYLIGHT
TZOFFSETFROM:+0100
TZOFFSETTO:+0200
TZNAME:CEST
DTSTART:20220327T010000
END:DAYLIGHT
BEGIN:STANDARD
TZOFFSETFROM:+0200
TZOFFSETTO:+0100
TZNAME:CET
DTSTART:20221030T010000
END:STANDARD
BEGIN:DAYLIGHT
TZOFFSETFROM:+0100
TZOFFSETTO:+0200
TZNAME:CEST
DTSTART:20230326T010000
END:DAYLIGHT
BEGIN:STANDARD
TZOFFSETFROM:+0200
TZOFFSETTO:+0100
TZNAME:CET
DTSTART:20231029T010000
END:STANDARD
END:VTIMEZONE
BEGIN:VEVENT
DTSTART;TZID=Europe/Berlin:20220705T183000
DTEND;TZID=Europe/Berlin:20220705T200000
DTSTAMP:20260419T205548
CREATED:20220428T081410Z
LAST-MODIFIED:20220621T125642Z
UID:3437-1657045800-1657051200@freiwilligenzentrum-giessen.de
SUMMARY:Online-Seminar: Beschäftigung im Verein – von Übungsleiter bis Minijob II
DESCRIPTION:Wer kann den Übungsleiter-Freibetrag in Anspruch nehmen?\nWann darf eine Ehrenamtspauschale gezahlt werden? Wie werden Minijobs korrekt abgerechnet?\nWelche Pflichten hat ein Verein bzgl. Berufsgenossenschaft oder Künstlersozialkasse? \nIn fast jedem Verein werden Zahlungen geleistet – von „großen“ Geburtstagsgeschenken bis Km-Geld-Erstattungen – ohne die lohnsteuer- und sozialversicherungsrechtlichen Konsequenzen zu kennen.\nNach diesem Seminar können Sie sich als Vorstand korrekt und sicher im Bereich „Lohn“ bewegen.\nReferentin ist Frau Sandra Oechler\, www.vereinsberatung-oechler.de \nTermin: 28.06. + 05.07.2022\, jeweils 18:30-20:00 Uhr\, online; die beiden Termine bauen aufeinander auf. \nEs handelt sich um eine Kooperationsveranstaltung mit dem Bad Nauheimer Freiwilligenzentrum\nund der Freiwilligenagentur Marburg-Biedenkopf. \nNach verbindlicher Anmeldung bis zum 27.06.2022 erhalten Sie den Zugangslink\,\nmit dem Sie sich in das Seminar einloggen können. Das Seminar ist für Ehrenamtliche kostenlos.
URL:https://freiwilligenzentrum-giessen.de/veranstaltung/online-seminar-beschaeftigung-im-verein-von-uel-bis-minijob-ii/
LOCATION:Online-Seminar\, Deutschland
CATEGORIES:Info,Online-Seminare,Weiterbildung,Workshop
ORGANIZER;CN="Freiwilligenzentrum Gie%C3%9Fen":MAILTO:info@freiwilligenzentrum-giessen.de
END:VEVENT
BEGIN:VEVENT
DTSTART;TZID=Europe/Berlin:20220712T180000
DTEND;TZID=Europe/Berlin:20220712T200000
DTSTAMP:20260419T205548
CREATED:20220707T072617Z
LAST-MODIFIED:20220707T072617Z
UID:3613-1657648800-1657656000@freiwilligenzentrum-giessen.de
SUMMARY:Extern: Frauen im Ehrenamt stärken − Vereinbarkeit von Familie\, Beruf und Ehrenamt
DESCRIPTION:(Keine) Zeit für´s Ehrenamt?\nZeit und Energie für ein ehrenamtliches Engagement aufzubringen ist nicht nur eine Frage des Wollens. Insbesondere für Frauen ist es immer wieder ein Balance-Akt\, ehrenamtliche Aufgaben zu übernehmen und mit ihren beruflichen Verpflichtungen und dem Familienleben in Einklang zu bringen. \nWie kann das Engagement von Frauen unterstützt wer-den? Und wie kann es gelingen\, alle Aktivitäten gut unter einen Hut zu bringen\, ohne sich selbst zu überfordern? Diesen Fragen gehen wir in diesem Ehrenamtsdialog nach. Herzlich eingeladen sind sowohl interessierte Frauen als auch Männer\, da sich gute Rahmenbedingungen für ein freiwilliges Engagement nur gemeinsam schaffen lassen. \nProgramm\n Begrüßung – Jens Womelsdorf\, designierter Landrat\n Impulsvortrag und Moderation – Sabine Rother-Holste\n Frauen im Ehrenamt − Beispiel aus der Praxis – Ute Jung\, Maria Laucht\, Sportverein Kirchvers e.V.\n Austausch in Kleingruppen \nAnmeldung\nFür Ihre Teilnahme melden Sie sich bitte an unter E-Mail:\nehrenamt@marburg-biedenkopf.de oder telefonisch: 06421 405-1789
URL:https://freiwilligenzentrum-giessen.de/veranstaltung/extern-frauen-im-ehrenamt-staerken-%e2%88%92-vereinbarkeit-von-familie-beruf-und-ehrenamt/
LOCATION:Tagungszentrum Kreisverwaltung Marburg\, Im Lichtenholz 60\, Marburg\, Hessen\, 35043\, Deutschland
CATEGORIES:Vor Ort
ORGANIZER;CN="Freiwilligenagentur Marburg-Biedenkopf e.V.":MAILTO:info@freiwilligenagentur-marburg.de
END:VEVENT
BEGIN:VEVENT
DTSTART;TZID=Europe/Berlin:20220713T183000
DTEND;TZID=Europe/Berlin:20220713T203000
DTSTAMP:20260419T205548
CREATED:20220705T182710Z
LAST-MODIFIED:20220705T183659Z
UID:3597-1657737000-1657744200@freiwilligenzentrum-giessen.de
SUMMARY:Aufenthalts-/Asylrecht Äthiopien
DESCRIPTION:Informationsabend zum Aufenthaltsrecht und Asylrecht für Menschen aus Äthiopien und ehrenamtliche HelferInnen. \nAsylum law and residence options for people from Ethiopia: What´s the effect of the current political crises in Ethiopia for people seeking a residence permit in Germany? This evening provides free legal advice from specialised lawyer. \nEs informiert ein Experte für die Region Ostafrika\, Rechtsanwalt Marcel Kasprzyk\, spezialisiert für Asylrecht. \nSprachmittler / Dolmetscher sind vor Ort.\nOhne Anmeldung. \nFragen im Vorhinein bitte an info@freiwilligenzentrum-giessen.de \n 
URL:https://freiwilligenzentrum-giessen.de/veranstaltung/aufenthaltsrecht-aethiopien/
LOCATION:Rathaus Gießen\, Berliner Platz 1\, Gießen\, Hessen\, 35390\, Deutschland
CATEGORIES:Vor Ort
ORGANIZER;CN="Freiwilligenzentrum Gie%C3%9Fen":MAILTO:info@freiwilligenzentrum-giessen.de
END:VEVENT
END:VCALENDAR