BEGIN:VCALENDAR
VERSION:2.0
PRODID:-//Freiwilligenzentrum - ECPv6.15.20//NONSGML v1.0//EN
CALSCALE:GREGORIAN
METHOD:PUBLISH
X-WR-CALNAME:Freiwilligenzentrum
X-ORIGINAL-URL:https://freiwilligenzentrum-giessen.de
X-WR-CALDESC:Veranstaltungen für Freiwilligenzentrum
REFRESH-INTERVAL;VALUE=DURATION:PT1H
X-Robots-Tag:noindex
X-PUBLISHED-TTL:PT1H
BEGIN:VTIMEZONE
TZID:Europe/Berlin
BEGIN:DAYLIGHT
TZOFFSETFROM:+0100
TZOFFSETTO:+0200
TZNAME:CEST
DTSTART:20200329T010000
END:DAYLIGHT
BEGIN:STANDARD
TZOFFSETFROM:+0200
TZOFFSETTO:+0100
TZNAME:CET
DTSTART:20201025T010000
END:STANDARD
BEGIN:DAYLIGHT
TZOFFSETFROM:+0100
TZOFFSETTO:+0200
TZNAME:CEST
DTSTART:20210328T010000
END:DAYLIGHT
BEGIN:STANDARD
TZOFFSETFROM:+0200
TZOFFSETTO:+0100
TZNAME:CET
DTSTART:20211031T010000
END:STANDARD
BEGIN:DAYLIGHT
TZOFFSETFROM:+0100
TZOFFSETTO:+0200
TZNAME:CEST
DTSTART:20220327T010000
END:DAYLIGHT
BEGIN:STANDARD
TZOFFSETFROM:+0200
TZOFFSETTO:+0100
TZNAME:CET
DTSTART:20221030T010000
END:STANDARD
END:VTIMEZONE
BEGIN:VEVENT
DTSTART;TZID=Europe/Berlin:20210527T193000
DTEND;TZID=Europe/Berlin:20210527T213000
DTSTAMP:20260425T130724
CREATED:20210527T153341Z
LAST-MODIFIED:20210602T130119Z
UID:2553-1622143800-1622151000@freiwilligenzentrum-giessen.de
SUMMARY:vhsTalk: Ich zuerst!? - Unsere Gesellschaft zwischen Ego-Trip und Engagement
DESCRIPTION:vhsTalk mit Sven Görtz und Heike Leitschuh \nWas ist los in unserer Gesellschaft\, gerade jetzt in Corona-Zeiten? Es scheint: Eine steigende Zahl von Menschen denkt nur noch an sich selbst\, hat in erster Linie den eigenen Vorteil oder das eigene Vergnügen im Sinn und lässt andere Meinungen nicht gelten. \nCorona wirkt wie ein Vergrößerungsglas und legt offen\, was auch schon vor der Pandemie an vielen Stellen schwelte: Wer sich engagiert\, das demokratische Leben kritisch-konstruktiv mitgestalten möchte\, hat es zunehmend schwer. Lokalpolitiker werden bedroht\, ehrenamtliche Flüchtlingshelfer diffamiert\, Fußballschiedsrichter angegriffen und angepöbelt\, Rettungskräfte berichten von Beschimpfungen. \nZum aktuellen vhs Talk begrüßt Gastgeber und Moderator Sven Görtz (Philosoph\, Sprecher\, Sänger) die Autorin und Politologin Heike Leitschuh. Sie hat mit vielen Betroffenen im öffentlichen Dienst\, im Sport\, in Schulen\, in Krankenhäusern\, mit Forschern und Politiker*innen gesprochen und sucht in ihrem Buch „Ich zuerst! Eine Gesellschaft auf dem Ego-Trip“ nach Ursachen\, aber auch nach Wegen\, wie wir wieder solidarischer werden können. \nAnmeldung: https://www.vhs-kreis-giessen.de/index.php?id=87&kathaupt=11&knr=E-0110105\nNach Anmeldung erhalten Sie den Zugangslink per E-Mail.
URL:https://freiwilligenzentrum-giessen.de/veranstaltung/vhstalk-ich-zuerst-unsere-gesellschaft-zwischen-ego-trip-und-engagement/
ORGANIZER;CN="VHS Landkreis Gie%C3%9Fen":MAILTO:kvhs.giessen@lkgi.de
END:VEVENT
END:VCALENDAR