BEGIN:VCALENDAR
VERSION:2.0
PRODID:-//Freiwilligenzentrum - ECPv6.15.20//NONSGML v1.0//EN
CALSCALE:GREGORIAN
METHOD:PUBLISH
X-WR-CALNAME:Freiwilligenzentrum
X-ORIGINAL-URL:https://freiwilligenzentrum-giessen.de
X-WR-CALDESC:Veranstaltungen für Freiwilligenzentrum
REFRESH-INTERVAL;VALUE=DURATION:PT1H
X-Robots-Tag:noindex
X-PUBLISHED-TTL:PT1H
BEGIN:VTIMEZONE
TZID:Europe/Berlin
BEGIN:DAYLIGHT
TZOFFSETFROM:+0100
TZOFFSETTO:+0200
TZNAME:CEST
DTSTART:20240331T010000
END:DAYLIGHT
BEGIN:STANDARD
TZOFFSETFROM:+0200
TZOFFSETTO:+0100
TZNAME:CET
DTSTART:20241027T010000
END:STANDARD
BEGIN:DAYLIGHT
TZOFFSETFROM:+0100
TZOFFSETTO:+0200
TZNAME:CEST
DTSTART:20250330T010000
END:DAYLIGHT
BEGIN:STANDARD
TZOFFSETFROM:+0200
TZOFFSETTO:+0100
TZNAME:CET
DTSTART:20251026T010000
END:STANDARD
BEGIN:DAYLIGHT
TZOFFSETFROM:+0100
TZOFFSETTO:+0200
TZNAME:CEST
DTSTART:20260329T010000
END:DAYLIGHT
BEGIN:STANDARD
TZOFFSETFROM:+0200
TZOFFSETTO:+0100
TZNAME:CET
DTSTART:20261025T010000
END:STANDARD
END:VTIMEZONE
BEGIN:VEVENT
DTSTART;TZID=Europe/Berlin:20251027T170000
DTEND;TZID=Europe/Berlin:20251027T200000
DTSTAMP:20260425T132644
CREATED:20250922T111658Z
LAST-MODIFIED:20250922T111658Z
UID:17800-1761584400-1761595200@freiwilligenzentrum-giessen.de
SUMMARY:Schulung neuer Pat*innen im Projekt "Dabei bleiben"
DESCRIPTION:Unsere neue Schulung für Pat*innen für mobil eingeschränkte Personen in und um Gießen startet wieder. \nWerden Sie Teil des Projekts „Dabei bleiben“! \nDie Schulung findet an 3 Nachmittagen statt. \nInformationen und Anmeldung bei Helga Kroll unter dabeibleiben@freiwilligenzentrum-giessen.de
URL:https://freiwilligenzentrum-giessen.de/veranstaltung/schulung-neuer-patinnen-im-projekt-dabei-bleiben/
CATEGORIES:Weiterbildung
ORGANIZER;CN="Freiwilligenzentrum Gie%C3%9Fen":MAILTO:info@freiwilligenzentrum-giessen.de
END:VEVENT
END:VCALENDAR