BEGIN:VCALENDAR
VERSION:2.0
PRODID:-//Freiwilligenzentrum - ECPv6.15.20//NONSGML v1.0//EN
CALSCALE:GREGORIAN
METHOD:PUBLISH
X-WR-CALNAME:Freiwilligenzentrum
X-ORIGINAL-URL:https://freiwilligenzentrum-giessen.de
X-WR-CALDESC:Veranstaltungen für Freiwilligenzentrum
REFRESH-INTERVAL;VALUE=DURATION:PT1H
X-Robots-Tag:noindex
X-PUBLISHED-TTL:PT1H
BEGIN:VTIMEZONE
TZID:Europe/Berlin
BEGIN:DAYLIGHT
TZOFFSETFROM:+0100
TZOFFSETTO:+0200
TZNAME:CEST
DTSTART:20240331T010000
END:DAYLIGHT
BEGIN:STANDARD
TZOFFSETFROM:+0200
TZOFFSETTO:+0100
TZNAME:CET
DTSTART:20241027T010000
END:STANDARD
BEGIN:DAYLIGHT
TZOFFSETFROM:+0100
TZOFFSETTO:+0200
TZNAME:CEST
DTSTART:20250330T010000
END:DAYLIGHT
BEGIN:STANDARD
TZOFFSETFROM:+0200
TZOFFSETTO:+0100
TZNAME:CET
DTSTART:20251026T010000
END:STANDARD
BEGIN:DAYLIGHT
TZOFFSETFROM:+0100
TZOFFSETTO:+0200
TZNAME:CEST
DTSTART:20260329T010000
END:DAYLIGHT
BEGIN:STANDARD
TZOFFSETFROM:+0200
TZOFFSETTO:+0100
TZNAME:CET
DTSTART:20261025T010000
END:STANDARD
END:VTIMEZONE
BEGIN:VEVENT
DTSTART;TZID=Europe/Berlin:20251022T180000
DTEND;TZID=Europe/Berlin:20251022T200000
DTSTAMP:20260425T132634
CREATED:20251002T074615Z
LAST-MODIFIED:20251002T074615Z
UID:18097-1761156000-1761163200@freiwilligenzentrum-giessen.de
SUMMARY:Extern: Infoveranstaltung Testament und Nachlass von NETZ Bangladesch e.V.
DESCRIPTION:Meine Werte\, meine Wünsche – Gute Gründe\, ein Testament zu machen. \nBarbara Steiger\, Notarin und Fachanwältin für Erbrecht\, informiert bei unserer kommenden Veranstaltung über die Gestaltungsmöglichkeiten eines persönlichen Testaments und über Fehler\, die es dabei zu vermeiden gilt. \nEin Resümee ziehen kann jeder Mensch nur in seiner sehr persönlichen Art. Was am Ende bleibt ist so verschieden\, wie die einzelnen Lebensverläufe. Und manches erhält seinen Sinn erst in der Rückschau. Ein Testament ist ein Zeichen von Fürsorge und Verantwortung. Vor allem ist es beruhigend zu wissen\, dass der Nachlass geregelt ist\, die Liebsten versorgt sind und die eigenen Werte wie auch das Vermögen über den Tod hinaus für andere Menschen wirken. \n\nWir laden Sie herzlich zur Veranstaltung mit Barbara Steiger ein: \nWann: Mittwoch\, 22. Oktober 2025 / 18 Uhr \nWo: Freiwilligenzentrum\, Walltorstr. 17\, 35390 Gießen \nDie Veranstaltung ist gebührenfrei.
URL:https://freiwilligenzentrum-giessen.de/veranstaltung/extern-infoveranstaltung-testament-und-nachlass-von-netz-bangladesch-e-v/
LOCATION:Freiwilligenzentrum Giessen\, Walltorstr.17\, Giessen\, Hessen\, 35390\, Deutschland
CATEGORIES:Info
ORGANIZER;CN="NETZ Bangladesch e.V.":MAILTO:netz@bangladesch.org
END:VEVENT
END:VCALENDAR