BEGIN:VCALENDAR
VERSION:2.0
PRODID:-//Freiwilligenzentrum - ECPv6.15.20//NONSGML v1.0//EN
CALSCALE:GREGORIAN
METHOD:PUBLISH
X-WR-CALNAME:Freiwilligenzentrum
X-ORIGINAL-URL:https://freiwilligenzentrum-giessen.de
X-WR-CALDESC:Veranstaltungen für Freiwilligenzentrum
REFRESH-INTERVAL;VALUE=DURATION:PT1H
X-Robots-Tag:noindex
X-PUBLISHED-TTL:PT1H
BEGIN:VTIMEZONE
TZID:Europe/Berlin
BEGIN:DAYLIGHT
TZOFFSETFROM:+0100
TZOFFSETTO:+0200
TZNAME:CEST
DTSTART:20240331T010000
END:DAYLIGHT
BEGIN:STANDARD
TZOFFSETFROM:+0200
TZOFFSETTO:+0100
TZNAME:CET
DTSTART:20241027T010000
END:STANDARD
BEGIN:DAYLIGHT
TZOFFSETFROM:+0100
TZOFFSETTO:+0200
TZNAME:CEST
DTSTART:20250330T010000
END:DAYLIGHT
BEGIN:STANDARD
TZOFFSETFROM:+0200
TZOFFSETTO:+0100
TZNAME:CET
DTSTART:20251026T010000
END:STANDARD
BEGIN:DAYLIGHT
TZOFFSETFROM:+0100
TZOFFSETTO:+0200
TZNAME:CEST
DTSTART:20260329T010000
END:DAYLIGHT
BEGIN:STANDARD
TZOFFSETFROM:+0200
TZOFFSETTO:+0100
TZNAME:CET
DTSTART:20261025T010000
END:STANDARD
END:VTIMEZONE
BEGIN:VEVENT
DTSTART;TZID=Europe/Berlin:20250920T140000
DTEND;TZID=Europe/Berlin:20250920T160000
DTSTAMP:20260425T132710
CREATED:20250708T123727Z
LAST-MODIFIED:20250829T093608Z
UID:16225-1758376800-1758384000@freiwilligenzentrum-giessen.de
SUMMARY:Netzwerktag "Regionale Fördermittelgeber kennenlernen"
DESCRIPTION:  \nEs ist wieder so weit: Unser alljährlicher Netzwerktag zum Kennenlernen regionaler Fördermittelgeber findet am Samstag den 20.9. von 14-16 Uhr statt. \nWillkommen sind Vereine\, Initiativen und Interessierte\, die sich zu Fördermitteln beraten lassen wollen\, Fördermittelgeber aus der Region kennenlernen möchten oder auch schon konkret Fördermittelanträge besprechen können.
URL:https://freiwilligenzentrum-giessen.de/veranstaltung/netzwerktag-regionale-foerdermittelgeber-kennenlernen/
LOCATION:DGB Dachsaal\, Walltorstraße 17\, Gießen\, Hessen\, 35390\, Deutschland
CATEGORIES:Event
ORGANIZER;CN="Freiwilligenzentrum Gie%C3%9Fen":MAILTO:info@freiwilligenzentrum-giessen.de
END:VEVENT
END:VCALENDAR