BEGIN:VCALENDAR
VERSION:2.0
PRODID:-//Freiwilligenzentrum - ECPv6.15.20//NONSGML v1.0//EN
CALSCALE:GREGORIAN
METHOD:PUBLISH
X-WR-CALNAME:Freiwilligenzentrum
X-ORIGINAL-URL:https://freiwilligenzentrum-giessen.de
X-WR-CALDESC:Veranstaltungen für Freiwilligenzentrum
REFRESH-INTERVAL;VALUE=DURATION:PT1H
X-Robots-Tag:noindex
X-PUBLISHED-TTL:PT1H
BEGIN:VTIMEZONE
TZID:Europe/Berlin
BEGIN:DAYLIGHT
TZOFFSETFROM:+0100
TZOFFSETTO:+0200
TZNAME:CEST
DTSTART:20240331T010000
END:DAYLIGHT
BEGIN:STANDARD
TZOFFSETFROM:+0200
TZOFFSETTO:+0100
TZNAME:CET
DTSTART:20241027T010000
END:STANDARD
BEGIN:DAYLIGHT
TZOFFSETFROM:+0100
TZOFFSETTO:+0200
TZNAME:CEST
DTSTART:20250330T010000
END:DAYLIGHT
BEGIN:STANDARD
TZOFFSETFROM:+0200
TZOFFSETTO:+0100
TZNAME:CET
DTSTART:20251026T010000
END:STANDARD
BEGIN:DAYLIGHT
TZOFFSETFROM:+0100
TZOFFSETTO:+0200
TZNAME:CEST
DTSTART:20260329T010000
END:DAYLIGHT
BEGIN:STANDARD
TZOFFSETFROM:+0200
TZOFFSETTO:+0100
TZNAME:CET
DTSTART:20261025T010000
END:STANDARD
END:VTIMEZONE
BEGIN:VEVENT
DTSTART;TZID=Europe/Berlin:20250714T080000
DTEND;TZID=Europe/Berlin:20250811T170000
DTSTAMP:20260425T185556
CREATED:20250627T130815Z
LAST-MODIFIED:20250627T130815Z
UID:14089-1752480000-1754931600@freiwilligenzentrum-giessen.de
SUMMARY:Sommerpause Sprachcafé Die Schwätzer
DESCRIPTION:Das Sprachcafé „Die Schwätzer“ macht Sommerpause (vom 14.07. – 11.08.)!
URL:https://freiwilligenzentrum-giessen.de/veranstaltung/sommerpause-sprachcafe-die-schwaetzer/
LOCATION:Freiwilligenzentrum Giessen\, Walltorstr.17\, Giessen\, Hessen\, 35390\, Deutschland
CATEGORIES:Info
ORGANIZER;CN="Freiwilligenzentrum Gie%C3%9Fen":MAILTO:info@freiwilligenzentrum-giessen.de
END:VEVENT
BEGIN:VEVENT
DTSTART;VALUE=DATE:20250715
DTEND;VALUE=DATE:20250816
DTSTAMP:20260425T185556
CREATED:20250506T131122Z
LAST-MODIFIED:20250506T144331Z
UID:13814-1752537600-1755302399@freiwilligenzentrum-giessen.de
SUMMARY:Sommerpause des Freiwilligenzentrums
DESCRIPTION:Vom 15. Juli – 15. August macht das Freiwilligenzentrum Sommerpause. \nDas Café Nachtlicht findet wie gewohnt statt.
URL:https://freiwilligenzentrum-giessen.de/veranstaltung/sommerpause-des-freiwilligenzentrums/
END:VEVENT
END:VCALENDAR