BEGIN:VCALENDAR
VERSION:2.0
PRODID:-//Freiwilligenzentrum - ECPv6.15.20//NONSGML v1.0//EN
CALSCALE:GREGORIAN
METHOD:PUBLISH
X-WR-CALNAME:Freiwilligenzentrum
X-ORIGINAL-URL:https://freiwilligenzentrum-giessen.de
X-WR-CALDESC:Veranstaltungen für Freiwilligenzentrum
REFRESH-INTERVAL;VALUE=DURATION:PT1H
X-Robots-Tag:noindex
X-PUBLISHED-TTL:PT1H
BEGIN:VTIMEZONE
TZID:Europe/Berlin
BEGIN:DAYLIGHT
TZOFFSETFROM:+0100
TZOFFSETTO:+0200
TZNAME:CEST
DTSTART:20230326T010000
END:DAYLIGHT
BEGIN:STANDARD
TZOFFSETFROM:+0200
TZOFFSETTO:+0100
TZNAME:CET
DTSTART:20231029T010000
END:STANDARD
BEGIN:DAYLIGHT
TZOFFSETFROM:+0100
TZOFFSETTO:+0200
TZNAME:CEST
DTSTART:20240331T010000
END:DAYLIGHT
BEGIN:STANDARD
TZOFFSETFROM:+0200
TZOFFSETTO:+0100
TZNAME:CET
DTSTART:20241027T010000
END:STANDARD
BEGIN:DAYLIGHT
TZOFFSETFROM:+0100
TZOFFSETTO:+0200
TZNAME:CEST
DTSTART:20250330T010000
END:DAYLIGHT
BEGIN:STANDARD
TZOFFSETFROM:+0200
TZOFFSETTO:+0100
TZNAME:CET
DTSTART:20251026T010000
END:STANDARD
END:VTIMEZONE
BEGIN:VEVENT
DTSTART;TZID=Europe/Berlin:20241112T093000
DTEND;TZID=Europe/Berlin:20241112T120000
DTSTAMP:20260420T101346
CREATED:20241028T125048Z
LAST-MODIFIED:20241028T125048Z
UID:12090-1731403800-1731412800@freiwilligenzentrum-giessen.de
SUMMARY:ALI Gießen: Mit Canva einfach eigene Flyer und Posts gestalten
DESCRIPTION:Eine Einführung in das Programm Canva und seine Möglichkeiten \nTeilnahme kostenlos. Bitte anmelden unter Tel. 0641 / 389376 oder Mail: info@ali-giessen.de.
URL:https://freiwilligenzentrum-giessen.de/veranstaltung/ali-giessen-mit-canva-einfach-eigene-flyer-und-posts-gestalten/
LOCATION:PC Raum ALI Gießen (1. Stock)\, Walltorstr. 17\, Gießen\, 35390\, Germany
CATEGORIES:Weiterbildung
END:VEVENT
END:VCALENDAR