BEGIN:VCALENDAR
VERSION:2.0
PRODID:-//Freiwilligenzentrum - ECPv6.15.20//NONSGML v1.0//EN
CALSCALE:GREGORIAN
METHOD:PUBLISH
X-ORIGINAL-URL:https://freiwilligenzentrum-giessen.de
X-WR-CALDESC:Veranstaltungen für Freiwilligenzentrum
REFRESH-INTERVAL;VALUE=DURATION:PT1H
X-Robots-Tag:noindex
X-PUBLISHED-TTL:PT1H
BEGIN:VTIMEZONE
TZID:Europe/Berlin
BEGIN:DAYLIGHT
TZOFFSETFROM:+0100
TZOFFSETTO:+0200
TZNAME:CEST
DTSTART:20230326T010000
END:DAYLIGHT
BEGIN:STANDARD
TZOFFSETFROM:+0200
TZOFFSETTO:+0100
TZNAME:CET
DTSTART:20231029T010000
END:STANDARD
BEGIN:DAYLIGHT
TZOFFSETFROM:+0100
TZOFFSETTO:+0200
TZNAME:CEST
DTSTART:20240331T010000
END:DAYLIGHT
BEGIN:STANDARD
TZOFFSETFROM:+0200
TZOFFSETTO:+0100
TZNAME:CET
DTSTART:20241027T010000
END:STANDARD
BEGIN:DAYLIGHT
TZOFFSETFROM:+0100
TZOFFSETTO:+0200
TZNAME:CEST
DTSTART:20250330T010000
END:DAYLIGHT
BEGIN:STANDARD
TZOFFSETFROM:+0200
TZOFFSETTO:+0100
TZNAME:CET
DTSTART:20251026T010000
END:STANDARD
END:VTIMEZONE
BEGIN:VEVENT
DTSTART;TZID=Europe/Berlin:20240923T173000
DTEND;TZID=Europe/Berlin:20240923T190000
DTSTAMP:20260421T142059
CREATED:20240726T100033Z
LAST-MODIFIED:20240726T100033Z
UID:8410-1727112600-1727118000@freiwilligenzentrum-giessen.de
SUMMARY:"Den Aufenthalt in Deutschland sichern - Bleiberechts-Perspektiven außerhalb des Asylverfahrens"
DESCRIPTION:Ein kompaktes Info-Angebot für Engagierte\, die Geflüchtete unterstützen und Betroffene selbst mit Andre Heerling vom Projekt „Gemeinsam für Bleiberecht“ beim Hessischen Flüchtlingsrat . \nAnmeldung unter: soziales@freiwilligenzentrum-giessen.de \n(Bei Übersetzungs-Bedarf bitte die Sprache angeben. Die meiste gewünschte Sprache wird simultan übersetzt)
URL:https://freiwilligenzentrum-giessen.de/veranstaltung/den-aufenthalt-in-deutschland-sichern-bleiberechts-perspektiven-ausserhalb-des-asylverfahrens/
CATEGORIES:Info
END:VEVENT
END:VCALENDAR