BEGIN:VCALENDAR
VERSION:2.0
PRODID:-//Freiwilligenzentrum - ECPv6.15.20//NONSGML v1.0//EN
CALSCALE:GREGORIAN
METHOD:PUBLISH
X-WR-CALNAME:Freiwilligenzentrum
X-ORIGINAL-URL:https://freiwilligenzentrum-giessen.de
X-WR-CALDESC:Veranstaltungen für Freiwilligenzentrum
REFRESH-INTERVAL;VALUE=DURATION:PT1H
X-Robots-Tag:noindex
X-PUBLISHED-TTL:PT1H
BEGIN:VTIMEZONE
TZID:Europe/Berlin
BEGIN:DAYLIGHT
TZOFFSETFROM:+0100
TZOFFSETTO:+0200
TZNAME:CEST
DTSTART:20230326T010000
END:DAYLIGHT
BEGIN:STANDARD
TZOFFSETFROM:+0200
TZOFFSETTO:+0100
TZNAME:CET
DTSTART:20231029T010000
END:STANDARD
BEGIN:DAYLIGHT
TZOFFSETFROM:+0100
TZOFFSETTO:+0200
TZNAME:CEST
DTSTART:20240331T010000
END:DAYLIGHT
BEGIN:STANDARD
TZOFFSETFROM:+0200
TZOFFSETTO:+0100
TZNAME:CET
DTSTART:20241027T010000
END:STANDARD
BEGIN:DAYLIGHT
TZOFFSETFROM:+0100
TZOFFSETTO:+0200
TZNAME:CEST
DTSTART:20250330T010000
END:DAYLIGHT
BEGIN:STANDARD
TZOFFSETFROM:+0200
TZOFFSETTO:+0100
TZNAME:CET
DTSTART:20251026T010000
END:STANDARD
END:VTIMEZONE
BEGIN:VEVENT
DTSTART;TZID=Europe/Berlin:20240920T083000
DTEND;TZID=Europe/Berlin:20240920T163000
DTSTAMP:20260421T102734
CREATED:20240726T095519Z
LAST-MODIFIED:20240905T100616Z
UID:8406-1726821000-1726849800@freiwilligenzentrum-giessen.de
SUMMARY:Wir sind zu Gast beim Bürgerbus-Tag in Grünberg!
DESCRIPTION:  \nWir sind zu Gast beim Bürgerbus-Tag in Grünberg am 20. September! \nhttps://miteinander-in-hessen.de/projekte/buergerbus/buergerbus-tag/ \nWir beteiligen uns mit einem Workshop zur Gewinnung von Freiwilligen\, also schaut vorbei!
URL:https://freiwilligenzentrum-giessen.de/veranstaltung/wir-sind-zu-gast-beim-buergerbus-tag-in-gruenberg/
LOCATION:Sporthotel Grünberg\, Am Tannenkopf 1\, Grünberg\, 35305
CATEGORIES:Austausch und Vernetzung,Event
END:VEVENT
END:VCALENDAR