BEGIN:VCALENDAR
VERSION:2.0
PRODID:-//Freiwilligenzentrum - ECPv6.15.20//NONSGML v1.0//EN
CALSCALE:GREGORIAN
METHOD:PUBLISH
X-WR-CALNAME:Freiwilligenzentrum
X-ORIGINAL-URL:https://freiwilligenzentrum-giessen.de
X-WR-CALDESC:Veranstaltungen für Freiwilligenzentrum
REFRESH-INTERVAL;VALUE=DURATION:PT1H
X-Robots-Tag:noindex
X-PUBLISHED-TTL:PT1H
BEGIN:VTIMEZONE
TZID:Europe/Berlin
BEGIN:DAYLIGHT
TZOFFSETFROM:+0100
TZOFFSETTO:+0200
TZNAME:CEST
DTSTART:20230326T010000
END:DAYLIGHT
BEGIN:STANDARD
TZOFFSETFROM:+0200
TZOFFSETTO:+0100
TZNAME:CET
DTSTART:20231029T010000
END:STANDARD
BEGIN:DAYLIGHT
TZOFFSETFROM:+0100
TZOFFSETTO:+0200
TZNAME:CEST
DTSTART:20240331T010000
END:DAYLIGHT
BEGIN:STANDARD
TZOFFSETFROM:+0200
TZOFFSETTO:+0100
TZNAME:CET
DTSTART:20241027T010000
END:STANDARD
BEGIN:DAYLIGHT
TZOFFSETFROM:+0100
TZOFFSETTO:+0200
TZNAME:CEST
DTSTART:20250330T010000
END:DAYLIGHT
BEGIN:STANDARD
TZOFFSETFROM:+0200
TZOFFSETTO:+0100
TZNAME:CET
DTSTART:20251026T010000
END:STANDARD
END:VTIMEZONE
BEGIN:VEVENT
DTSTART;TZID=Europe/Berlin:20240915T150000
DTEND;TZID=Europe/Berlin:20240915T170000
DTSTAMP:20260421T101353
CREATED:20240726T094459Z
LAST-MODIFIED:20240905T103636Z
UID:8404-1726412400-1726419600@freiwilligenzentrum-giessen.de
SUMMARY:Vernetzungstag "Regionale Fördermittelgeber kennenlernen"
DESCRIPTION:  \nWie jedes Jahr laden wir euch zum Vernetzungstag „Regionale Fördermittelgeber kennenlernen“ ein und freuen uns auf Besucher*innen mit Vernetzungshunger\, eigenen Projektideen und Neugier auf regionale Förderangebote. \nDie Veranstaltung findet im Dachsaal des DGB Gebäudes\, Walltorstraße 17 (Eingang über Asterweg) im 7. Stock statt.
URL:https://freiwilligenzentrum-giessen.de/veranstaltung/vernetzungstag-regionale-foerdermittelgeber-kennenlernen/
LOCATION:DGB Dachsaal\, Walltorstraße 17\, Gießen\, Hessen\, 35390\, Deutschland
CATEGORIES:Austausch und Vernetzung,Event
ORGANIZER;CN="Freiwilligenzentrum Gie%C3%9Fen":MAILTO:info@freiwilligenzentrum-giessen.de
END:VEVENT
END:VCALENDAR