BEGIN:VCALENDAR
VERSION:2.0
PRODID:-//Freiwilligenzentrum - ECPv6.15.20//NONSGML v1.0//EN
CALSCALE:GREGORIAN
METHOD:PUBLISH
X-WR-CALNAME:Freiwilligenzentrum
X-ORIGINAL-URL:https://freiwilligenzentrum-giessen.de
X-WR-CALDESC:Veranstaltungen für Freiwilligenzentrum
REFRESH-INTERVAL;VALUE=DURATION:PT1H
X-Robots-Tag:noindex
X-PUBLISHED-TTL:PT1H
BEGIN:VTIMEZONE
TZID:Europe/Berlin
BEGIN:DAYLIGHT
TZOFFSETFROM:+0100
TZOFFSETTO:+0200
TZNAME:CEST
DTSTART:20230326T010000
END:DAYLIGHT
BEGIN:STANDARD
TZOFFSETFROM:+0200
TZOFFSETTO:+0100
TZNAME:CET
DTSTART:20231029T010000
END:STANDARD
BEGIN:DAYLIGHT
TZOFFSETFROM:+0100
TZOFFSETTO:+0200
TZNAME:CEST
DTSTART:20240331T010000
END:DAYLIGHT
BEGIN:STANDARD
TZOFFSETFROM:+0200
TZOFFSETTO:+0100
TZNAME:CET
DTSTART:20241027T010000
END:STANDARD
BEGIN:DAYLIGHT
TZOFFSETFROM:+0100
TZOFFSETTO:+0200
TZNAME:CEST
DTSTART:20250330T010000
END:DAYLIGHT
BEGIN:STANDARD
TZOFFSETFROM:+0200
TZOFFSETTO:+0100
TZNAME:CET
DTSTART:20251026T010000
END:STANDARD
END:VTIMEZONE
BEGIN:VEVENT
DTSTART;TZID=Europe/Berlin:20240712T150000
DTEND;TZID=Europe/Berlin:20240712T200000
DTSTAMP:20260421T183219
CREATED:20240611T112241Z
LAST-MODIFIED:20240705T115026Z
UID:7482-1720796400-1720814400@freiwilligenzentrum-giessen.de
SUMMARY:Sommerfest des Freiwilligenzentrums
DESCRIPTION:Liebe Engagierte Menschen aus Gießen und der Region\, liebe Netzwerkerpartnerinnen und Förderer\, \n  \nwir laden Sie und euch ganz herzlich zum Sommerfest des Freiwilligenzentrums für Stadt und Landkreis Gießen e.V. ein! \n  \nWann? Am Freitag-Nachmittag\, den 12. Juli von 15 -20 Uhr \nWo? In und um das Gießener Freiwilligenzentrum\, Walltorstr 17\, im Erdgeschoss des DGB-Hauses\, Eingang Asterweg (wir hoffen auf bestes Wetter!) \n  \nWir freuen uns darauf\, sich mal wieder in großer Runde zu treffen\, zu plaudern und sich zu vernetzen…. \nVielleicht entstehen ja sogar neue Projektideen\, wenn so viele Engagierte aufeinander treffen – wer weiß! \n  \nFür Eis und Getränke ist gesorgt. Wer Lust hat\, kann gerne etwas zu Essen mitbringen\, denn wir planen eine buntes Mitbring-Buffet\, welches mit der Zahl der Gäste wächst… \nAm besten eignen sich Fingerfood\, da wir sicher nicht genug Geschirr für alle haben. Aber auch Kuchen oder Quiche lassen sich ja auf einer Serviette gut essen 🙂 \n  \nWer als Vertreterin oder Vertreter eines Projekts kommt: Gerne aktuelle Flyer für unsere umfangreiche Flyer-Wand mitbringen (10 Stck reichen erfahrungsgemäß). \n  \nHat jemand Lust\, den Rahmen des Sommerfests zu nutzen\, um etwas anzubieten? \nVon von Bastel- oder Upcycling Aktionen über Zauberei bis zu Pflanzentausch oder Musik sind der Fantasie hier keine Grenzen gesetzt. \nWir freuen uns über kleine Beiträge\, die das Fest noch vielfälter machen. Schreibt uns einfach\, wenn ihr darauf Lust habt! \n  \nAuch neue Interessierte sind herzlich willkommen\, daher die Einladung im Anhang auch gerne weiterleiten oder einfach Freunde mitbringen… \n  \nPS: Bei dem Fest werden Fotos gemacht\, die später in unserer (Print- und Online-)Öffentlichkeitsarbeit genutzt werden. Wer nicht auf Fotos sein möchte\, melde sich bitte gleich zu Beginn bei der Leitung des Freiwilligenzentrums. \n  \nWer mobil Eingeschränkt ist und Probleme mit dem Weg zu uns und zurück haben könnte: Bitte bei uns melden\, wir finden vielleicht eine gemeinsame Lösung\, z.B. mit einer Fahrrad-Rikscha! \nWer einen weiteren Weg aus dem Landkreis hat : Gerne auch Bescheid sagen und wir vermitteln Fahrgemeinschaften\, wo es möglich ist\, um Umwelt und Geldbeutel zu schonen…
URL:https://freiwilligenzentrum-giessen.de/veranstaltung/sommerfest-des-freiwilligenzentrums-2/
LOCATION:Freiwilligenzentrum Giessen\, Walltorstr.17\, Giessen\, Hessen\, 35390\, Deutschland
CATEGORIES:Austausch und Vernetzung,Event
ATTACH;FMTTYPE=image/jpeg:https://freiwilligenzentrum-giessen.de/wp-content/uploads/2024/06/Sommerfest_Freiwilligenzentrum_12.-Juli_Sharepic-002.jpg
ORGANIZER;CN="Freiwilligenzentrum Gie%C3%9Fen":MAILTO:info@freiwilligenzentrum-giessen.de
END:VEVENT
END:VCALENDAR