BEGIN:VCALENDAR
VERSION:2.0
PRODID:-//Freiwilligenzentrum - ECPv6.15.20//NONSGML v1.0//EN
CALSCALE:GREGORIAN
METHOD:PUBLISH
X-ORIGINAL-URL:https://freiwilligenzentrum-giessen.de
X-WR-CALDESC:Veranstaltungen für Freiwilligenzentrum
REFRESH-INTERVAL;VALUE=DURATION:PT1H
X-Robots-Tag:noindex
X-PUBLISHED-TTL:PT1H
BEGIN:VTIMEZONE
TZID:Europe/Berlin
BEGIN:DAYLIGHT
TZOFFSETFROM:+0100
TZOFFSETTO:+0200
TZNAME:CEST
DTSTART:20230326T010000
END:DAYLIGHT
BEGIN:STANDARD
TZOFFSETFROM:+0200
TZOFFSETTO:+0100
TZNAME:CET
DTSTART:20231029T010000
END:STANDARD
BEGIN:DAYLIGHT
TZOFFSETFROM:+0100
TZOFFSETTO:+0200
TZNAME:CEST
DTSTART:20240331T010000
END:DAYLIGHT
BEGIN:STANDARD
TZOFFSETFROM:+0200
TZOFFSETTO:+0100
TZNAME:CET
DTSTART:20241027T010000
END:STANDARD
BEGIN:DAYLIGHT
TZOFFSETFROM:+0100
TZOFFSETTO:+0200
TZNAME:CEST
DTSTART:20250330T010000
END:DAYLIGHT
BEGIN:STANDARD
TZOFFSETFROM:+0200
TZOFFSETTO:+0100
TZNAME:CET
DTSTART:20251026T010000
END:STANDARD
END:VTIMEZONE
BEGIN:VEVENT
DTSTART;TZID=Europe/Berlin:20240622T140000
DTEND;TZID=Europe/Berlin:20240622T180000
DTSTAMP:20260421T151358
CREATED:20240617T134143Z
LAST-MODIFIED:20240617T134224Z
UID:7529-1719064800-1719079200@freiwilligenzentrum-giessen.de
SUMMARY:Quatiersfest - Kirchenplatz für alle
DESCRIPTION:Freiwillige gesucht!\n\n\n\n\n\n\n\n\nAm 22. Juni findet das Quartiersfest hier in Gießen bei uns im Dönerdreieck statt. Ihr Dürft euch auf Essen und trinken\, gute Musik und natürlich Begegungen freuen.\nLasst uns über gutes Zusammenleben in der Innenstaft sprechen!\n\nHierbei brauchen wir noch Unterstützung! Gesucht wird vor allem Hilfe für die folgenden Tätigkeiten:\n\nAufbau um 13 Uhr\nAbbau ab 18 Uhr\nPersonen die für den Zeitraum von 14-18 Uhr bei der Essens- und Getränkeausgabe helfen möchten\nBetreuung der Bühne\nAllgemeine Ordner für aufräumen zwischendurch etc.\n\nWenn ihr Zeit und Lust habt uns dabei zu unterstützen\, meldet euch gerne bei uns im Freiwilligenzentrum.
URL:https://freiwilligenzentrum-giessen.de/veranstaltung/quatiersfest-kirchenplatz-fuer-alle/
LOCATION:Kirchenplatz\, Gießen\, Kirchenplatz\, Gießen\, Hessen\, 35390\, Deutschland
CATEGORIES:Austausch und Vernetzung,Event
ATTACH;FMTTYPE=image/jpeg:https://freiwilligenzentrum-giessen.de/wp-content/uploads/2024/06/Kirchenplatz-fuer-alle-Flyer-A5.jpg
END:VEVENT
END:VCALENDAR