BEGIN:VCALENDAR
VERSION:2.0
PRODID:-//Freiwilligenzentrum - ECPv6.15.20//NONSGML v1.0//EN
CALSCALE:GREGORIAN
METHOD:PUBLISH
X-WR-CALNAME:Freiwilligenzentrum
X-ORIGINAL-URL:https://freiwilligenzentrum-giessen.de
X-WR-CALDESC:Veranstaltungen für Freiwilligenzentrum
REFRESH-INTERVAL;VALUE=DURATION:PT1H
X-Robots-Tag:noindex
X-PUBLISHED-TTL:PT1H
BEGIN:VTIMEZONE
TZID:Europe/Berlin
BEGIN:DAYLIGHT
TZOFFSETFROM:+0100
TZOFFSETTO:+0200
TZNAME:CEST
DTSTART:20220327T010000
END:DAYLIGHT
BEGIN:STANDARD
TZOFFSETFROM:+0200
TZOFFSETTO:+0100
TZNAME:CET
DTSTART:20221030T010000
END:STANDARD
BEGIN:DAYLIGHT
TZOFFSETFROM:+0100
TZOFFSETTO:+0200
TZNAME:CEST
DTSTART:20230326T010000
END:DAYLIGHT
BEGIN:STANDARD
TZOFFSETFROM:+0200
TZOFFSETTO:+0100
TZNAME:CET
DTSTART:20231029T010000
END:STANDARD
BEGIN:DAYLIGHT
TZOFFSETFROM:+0100
TZOFFSETTO:+0200
TZNAME:CEST
DTSTART:20240331T010000
END:DAYLIGHT
BEGIN:STANDARD
TZOFFSETFROM:+0200
TZOFFSETTO:+0100
TZNAME:CET
DTSTART:20241027T010000
END:STANDARD
END:VTIMEZONE
BEGIN:VEVENT
DTSTART;TZID=Europe/Berlin:20230714T150000
DTEND;TZID=Europe/Berlin:20230714T170000
DTSTAMP:20260423T153422
CREATED:20230711T115208Z
LAST-MODIFIED:20230711T115208Z
UID:4841-1689346800-1689354000@freiwilligenzentrum-giessen.de
SUMMARY:Workshops für Ehrenamtliche - Achtsamkeit oder Flyer-Gestaltung zur Auswahl
DESCRIPTION:Zu Beginn unseres Sommerfestes bieten wir zwei Impuls-Workshops für Ehrenamtliche zur Auswahl an. \nWorkshop 1: Achtsamkeit im Alltag \nWorkshop 2: Plakate und Projekt-Flyer einfach selber gestalten \nAnmeldungen bitte an koordination@freiwilligenzentrum-giessen.de
URL:https://freiwilligenzentrum-giessen.de/veranstaltung/workshops-fuer-ehrenamtliche-achtsamkeit-oder-flyer-gestaltung-zur-auswahl/
LOCATION:DGB Dachsaal\, Walltorstraße 17\, Gießen\, Hessen\, 35390\, Deutschland
CATEGORIES:Vor Ort,Workshop
ORGANIZER;CN="Freiwilligenzentrum Gie%C3%9Fen":MAILTO:info@freiwilligenzentrum-giessen.de
END:VEVENT
BEGIN:VEVENT
DTSTART;TZID=Europe/Berlin:20230714T170000
DTEND;TZID=Europe/Berlin:20230714T220000
DTSTAMP:20260423T153422
CREATED:20230711T113712Z
LAST-MODIFIED:20230711T115325Z
UID:4838-1689354000-1689372000@freiwilligenzentrum-giessen.de
SUMMARY:Sommerfest des Freiwilligenzentrums
DESCRIPTION:
URL:https://freiwilligenzentrum-giessen.de/veranstaltung/sommerfest-des-freiwilligenzentrums/
LOCATION:Freiwilligenzentrum Giessen\, Walltorstr.17\, Giessen\, Hessen\, 35390\, Deutschland
CATEGORIES:Event,Vor Ort
ORGANIZER;CN="Freiwilligenzentrum Gie%C3%9Fen":MAILTO:info@freiwilligenzentrum-giessen.de
END:VEVENT
END:VCALENDAR