BEGIN:VCALENDAR
VERSION:2.0
PRODID:-//Freiwilligenzentrum - ECPv6.15.20//NONSGML v1.0//EN
CALSCALE:GREGORIAN
METHOD:PUBLISH
X-WR-CALNAME:Freiwilligenzentrum
X-ORIGINAL-URL:https://freiwilligenzentrum-giessen.de
X-WR-CALDESC:Veranstaltungen für Freiwilligenzentrum
REFRESH-INTERVAL;VALUE=DURATION:PT1H
X-Robots-Tag:noindex
X-PUBLISHED-TTL:PT1H
BEGIN:VTIMEZONE
TZID:Europe/Berlin
BEGIN:DAYLIGHT
TZOFFSETFROM:+0100
TZOFFSETTO:+0200
TZNAME:CEST
DTSTART:20220327T010000
END:DAYLIGHT
BEGIN:STANDARD
TZOFFSETFROM:+0200
TZOFFSETTO:+0100
TZNAME:CET
DTSTART:20221030T010000
END:STANDARD
BEGIN:DAYLIGHT
TZOFFSETFROM:+0100
TZOFFSETTO:+0200
TZNAME:CEST
DTSTART:20230326T010000
END:DAYLIGHT
BEGIN:STANDARD
TZOFFSETFROM:+0200
TZOFFSETTO:+0100
TZNAME:CET
DTSTART:20231029T010000
END:STANDARD
BEGIN:DAYLIGHT
TZOFFSETFROM:+0100
TZOFFSETTO:+0200
TZNAME:CEST
DTSTART:20240331T010000
END:DAYLIGHT
BEGIN:STANDARD
TZOFFSETFROM:+0200
TZOFFSETTO:+0100
TZNAME:CET
DTSTART:20241027T010000
END:STANDARD
END:VTIMEZONE
BEGIN:VEVENT
DTSTART;TZID=Europe/Berlin:20230601T160000
DTEND;TZID=Europe/Berlin:20230601T180000
DTSTAMP:20260424T075559
CREATED:20230503T131236Z
LAST-MODIFIED:20230503T131237Z
UID:4555-1685635200-1685642400@freiwilligenzentrum-giessen.de
SUMMARY:Vortrag: SelbstBestimmt älter werden - zusammen ist vieles schöner als allein
DESCRIPTION:Größtmögliche Selbstständigkeit\, Lebensqualität und der Wunsch nach einem Verbleiben in der häuslichen Umgebung im Alter wünschen sich wahrscheinlich alle Menschen. \nWie kann das so lange wie möglich gelingen? Welche Unterstützungsangebote gibt es? Wie können Sie – soweit möglich – vorsorgen? \nSie erhalten im Rahmen dieser Veranstaltung einen Überblick über das Beratungsangebot der Beratungs- und Koordinierungsstelle für ältere und pflegebedürftige Menschen (BeKo). Anschließend wird das Patenschaftsprojekt „dabei bleiben“ vorgestellt. Ob Einkaufsbummel\, Spaziergang\, Konzert- oder Café-Besuch\, die ehrenamtlichen Pat*innen des Gießener Freiwilligenzentrums können Ihren Alltag bereichern. Informieren Sie sich bei dieser Gelegenheit unverbindlich über die Optionen dieses Patenprojekts! Auch potenzielle Freiwillige sind herzlich willkommen\, mehr über das Projekt zu erfahren. \nReferentinnen: Helga Kroll (Freiwilligenzentrum für Stadt und Landkreis Gießen e.V.) und Daniele Poppe (BeKo).
URL:https://freiwilligenzentrum-giessen.de/veranstaltung/vortrag-selbstbestimmt-aelter-werden-zusammen-ist-vieles-schoener-als-allein/
LOCATION:Kongresshalle Gießen\, Kerkradezimmer\, Südanlage 3\, Gießen\, Hessen\, 35390
CATEGORIES:Info,Vor Ort
ORGANIZER;CN="Freiwilligenzentrum Gie%C3%9Fen":MAILTO:info@freiwilligenzentrum-giessen.de
END:VEVENT
END:VCALENDAR