BEGIN:VCALENDAR
VERSION:2.0
PRODID:-//Freiwilligenzentrum - ECPv6.15.20//NONSGML v1.0//EN
CALSCALE:GREGORIAN
METHOD:PUBLISH
X-WR-CALNAME:Freiwilligenzentrum
X-ORIGINAL-URL:https://freiwilligenzentrum-giessen.de
X-WR-CALDESC:Veranstaltungen für Freiwilligenzentrum
REFRESH-INTERVAL;VALUE=DURATION:PT1H
X-Robots-Tag:noindex
X-PUBLISHED-TTL:PT1H
BEGIN:VTIMEZONE
TZID:Europe/Berlin
BEGIN:DAYLIGHT
TZOFFSETFROM:+0100
TZOFFSETTO:+0200
TZNAME:CEST
DTSTART:20210328T010000
END:DAYLIGHT
BEGIN:STANDARD
TZOFFSETFROM:+0200
TZOFFSETTO:+0100
TZNAME:CET
DTSTART:20211031T010000
END:STANDARD
BEGIN:DAYLIGHT
TZOFFSETFROM:+0100
TZOFFSETTO:+0200
TZNAME:CEST
DTSTART:20220327T010000
END:DAYLIGHT
BEGIN:STANDARD
TZOFFSETFROM:+0200
TZOFFSETTO:+0100
TZNAME:CET
DTSTART:20221030T010000
END:STANDARD
BEGIN:DAYLIGHT
TZOFFSETFROM:+0100
TZOFFSETTO:+0200
TZNAME:CEST
DTSTART:20230326T010000
END:DAYLIGHT
BEGIN:STANDARD
TZOFFSETFROM:+0200
TZOFFSETTO:+0100
TZNAME:CET
DTSTART:20231029T010000
END:STANDARD
END:VTIMEZONE
BEGIN:VEVENT
DTSTART;TZID=Europe/Berlin:20220625T130000
DTEND;TZID=Europe/Berlin:20220625T143000
DTSTAMP:20260419T205517
CREATED:20220622T164025Z
LAST-MODIFIED:20220622T164026Z
UID:3590-1656162000-1656167400@freiwilligenzentrum-giessen.de
SUMMARY:Engagement-Walk
DESCRIPTION:Gießen hat weitaus mehr zu bieten als bloß Uni-Vorlesungen und Ludwigstraße! \nAm 25.06.2022\, 13 Uhr bis 14:30 Uhr\, findet daher ein Engagement-Walk statt\, bei dem die Teilnehmer nicht nur das Freiwilligenzentrum näher kennenlernen können\, sie besuchen zudem die Büroräume und Ansprechpartner der Lebenshilfe sowie die der an.ge.kommen e.V. und können sich so über mögliche ehrenamtliche Einsatzstellen in Gießen informieren! \nAnmeldung unter: dabeibleiben@freiwilligenzentrum-giessen.de
URL:https://freiwilligenzentrum-giessen.de/veranstaltung/engagement-walk/
LOCATION:Freiwilligenzentrum Giessen\, Walltorstr.17\, Giessen\, Hessen\, 35390\, Deutschland
CATEGORIES:Vor Ort
ORGANIZER;CN="Freiwilligenzentrum Gie%C3%9Fen":MAILTO:info@freiwilligenzentrum-giessen.de
END:VEVENT
END:VCALENDAR